BEGIN:VCALENDAR
VERSION:2.0
PRODID:-//Golden Land Expo - ECPv6.15.11//NONSGML v1.0//EN
CALSCALE:GREGORIAN
METHOD:PUBLISH
X-ORIGINAL-URL:https://www.goldenland.com.my
X-WR-CALDESC:Events for Golden Land Expo
REFRESH-INTERVAL;VALUE=DURATION:PT1H
X-Robots-Tag:noindex
X-PUBLISHED-TTL:PT1H
BEGIN:VTIMEZONE
TZID:UTC
BEGIN:STANDARD
TZOFFSETFROM:+0000
TZOFFSETTO:+0000
TZNAME:UTC
DTSTART:20220101T000000
END:STANDARD
END:VTIMEZONE
BEGIN:VEVENT
DTSTART;TZID=UTC:20230504T100000
DTEND;TZID=UTC:20230507T220000
DTSTAMP:20260421T054954
CREATED:20230316T084155Z
LAST-MODIFIED:20230316T084155Z
UID:24773-1683194400-1683496800@www.goldenland.com.my
SUMMARY:4-7 MAY 2023 I COFFEE SHOW
DESCRIPTION:I Coffee show \nVenue: Paradigm Mall \nDate: 4-7 May 2023 \nOperation hours: 10am-10pm
URL:https://www.goldenland.com.my/event/4-7-may-2023-i-coffee-show/
LOCATION:PARADIGM MALL\, 1\, Jalan SS 7/26a\, Ss 7\, Petaling Jaya\, Selangor\, 47301\, Malaysia
CATEGORIES:I COFFEE SHOW
ATTACH;FMTTYPE=image/jpeg:https://www.goldenland.com.my/wp-content/uploads/2023/02/website-i-coffee-02-scaled.jpg
ORGANIZER;CN="Golden Land Expo":MAILTO:info@goldenland.com.my
END:VEVENT
END:VCALENDAR