BEGIN:VCALENDAR
VERSION:2.0
PRODID:-//Golden Land Expo - ECPv6.15.11//NONSGML v1.0//EN
CALSCALE:GREGORIAN
METHOD:PUBLISH
X-WR-CALNAME:Golden Land Expo
X-ORIGINAL-URL:https://www.goldenland.com.my
X-WR-CALDESC:Events for Golden Land Expo
REFRESH-INTERVAL;VALUE=DURATION:PT1H
X-Robots-Tag:noindex
X-PUBLISHED-TTL:PT1H
BEGIN:VTIMEZONE
TZID:UTC
BEGIN:STANDARD
TZOFFSETFROM:+0000
TZOFFSETTO:+0000
TZNAME:UTC
DTSTART:20240101T000000
END:STANDARD
END:VTIMEZONE
BEGIN:VEVENT
DTSTART;TZID=UTC:20250808T100000
DTEND;TZID=UTC:20250810T220000
DTSTAMP:20260420T133334
CREATED:20250227T064840Z
LAST-MODIFIED:20250227T132122Z
UID:25172-1754647200-1754863200@www.goldenland.com.my
SUMMARY:8-10 AUGUST 2025 COFFEE & FRIENDS
DESCRIPTION:COFFEE & FRIENDS \nVENUE: SUNWAY PUTRA MALL\nDATE: 8-10 AUGUST 2025 \nOPERATION HOURS:10am-10pm
URL:https://www.goldenland.com.my/event/8-10-august-2025-coffee-friends/
LOCATION:SUNWAY PUTRA MALL\, Jalan Putra\, Chow Kit\, kuala lumpur\, kuala lumpur\, 50350\, Malaysia
CATEGORIES:COFFEE & FRIENDS
ATTACH;FMTTYPE=image/jpeg:https://www.goldenland.com.my/wp-content/uploads/2025/02/website-03-scaled.jpg
ORGANIZER;CN="Golden Land Expo":MAILTO:info@goldenland.com.my
END:VEVENT
END:VCALENDAR